BEGIN:VCALENDAR
VERSION:2.0
PRODID:-//wp-events-plugin.com//7.2.3.1//EN
TZID:Europe/Paris
X-WR-TIMEZONE:Europe/Paris
BEGIN:VEVENT
UID:203@acpavilly.fr
DTSTART;TZID=Europe/Paris:20250216T090000
DTEND;TZID=Europe/Paris:20250216T120000
DTSTAMP:20241222T132422Z
URL:https://www.acpavilly.fr/events/circuit-n-179/
SUMMARY:Circuit n° 179
DESCRIPTION:\n\n\nDistance\n42.35 km\nDénivelé +\n354 m\nDénivelé -\n35
 6 m\nAltitude min.\n38 m\nAltitude max.\n176 m\n\n\n
CATEGORIES:Sortie dominicale
END:VEVENT
BEGIN:VTIMEZONE
TZID:Europe/Paris
X-LIC-LOCATION:Europe/Paris
BEGIN:STANDARD
DTSTART:20241027T020000
TZOFFSETFROM:+0200
TZOFFSETTO:+0100
TZNAME:CET
END:STANDARD
END:VTIMEZONE
END:VCALENDAR