BEGIN:VCALENDAR
VERSION:2.0
PRODID:-//wp-events-plugin.com//7.2.3.1//EN
TZID:Europe/Paris
X-WR-TIMEZONE:Europe/Paris
BEGIN:VEVENT
UID:129@acpavilly.fr
DTSTART;TZID=Europe/Paris:20241229T090000
DTEND;TZID=Europe/Paris:20241229T120000
DTSTAMP:20231226T104102Z
URL:https://www.acpavilly.fr/events/circuit-n-177/
SUMMARY:Circuit n° 177
DESCRIPTION:\n\n\nDistance\n42.47 km\nDénivelé +\n441 m\nDénivelé -\n43
 5 m\nAltitude min.\n47 m\nAltitude max.\n173 m\n\n\n
CATEGORIES:Sortie dominicale
END:VEVENT
BEGIN:VTIMEZONE
TZID:Europe/Paris
X-LIC-LOCATION:Europe/Paris
BEGIN:STANDARD
DTSTART:20241027T020000
TZOFFSETFROM:+0200
TZOFFSETTO:+0100
TZNAME:CET
END:STANDARD
END:VTIMEZONE
END:VCALENDAR