BEGIN:VCALENDAR
VERSION:2.0
PRODID:-//wp-events-plugin.com//7.2.3.1//EN
TZID:Europe/Paris
X-WR-TIMEZONE:Europe/Paris
BEGIN:VEVENT
UID:85@acpavilly.fr
DTSTART;TZID=Europe/Paris:20240211T090000
DTEND;TZID=Europe/Paris:20240211T120000
DTSTAMP:20231226T083203Z
URL:https://www.acpavilly.fr/events/circuit-n-174/
SUMMARY:Circuit n° 174
DESCRIPTION:\n\n\nDistance\n46.55 km\nDénivelé +\n515 m\nDénivelé -\n52
 2 m\nAltitude min.\n44 m\nAltitude max.\n177 m\n\n\n
CATEGORIES:Sortie dominicale
END:VEVENT
BEGIN:VTIMEZONE
TZID:Europe/Paris
X-LIC-LOCATION:Europe/Paris
BEGIN:STANDARD
DTSTART:20231029T020000
TZOFFSETFROM:+0200
TZOFFSETTO:+0100
TZNAME:CET
END:STANDARD
END:VTIMEZONE
END:VCALENDAR