BEGIN:VCALENDAR
VERSION:2.0
PRODID:-//wp-events-plugin.com//7.2.3.1//EN
TZID:Europe/Paris
X-WR-TIMEZONE:Europe/Paris
BEGIN:VEVENT
UID:192@acpavilly.fr
DTSTART;TZID=Europe/Paris:20251102T090000
DTEND;TZID=Europe/Paris:20251102T120000
DTSTAMP:20241221T142802Z
URL:https://www.acpavilly.fr/events/circuit-n-123/
SUMMARY:Circuit n° 123
DESCRIPTION:\n\n\nDistance\n42.65 km\nDénivelé +\n369 m\nDénivelé -\n36
 5  m\nAltitude min.\n51 m\nAltitude max.\n84 m\n\n\n
CATEGORIES:Sortie dominicale
END:VEVENT
BEGIN:VTIMEZONE
TZID:Europe/Paris
X-LIC-LOCATION:Europe/Paris
BEGIN:STANDARD
DTSTART:20251026T020000
TZOFFSETFROM:+0200
TZOFFSETTO:+0100
TZNAME:CET
END:STANDARD
END:VTIMEZONE
END:VCALENDAR