BEGIN:VCALENDAR
VERSION:2.0
PRODID:-//wp-events-plugin.com//7.2.3.1//EN
TZID:Europe/Paris
X-WR-TIMEZONE:Europe/Paris
BEGIN:VEVENT
UID:19@acpavilly.fr
DTSTART;TZID=Europe/Paris:20250803T083000
DTEND;TZID=Europe/Paris:20250803T120000
DTSTAMP:20250111T093733Z
URL:https://www.acpavilly.fr/events/circuit-n-108/
SUMMARY:Circuit n° 108
DESCRIPTION:\n\n\nDistance\n62 km\nDénivelé +\n440 m\nDénivelé -\n440 m
 \nAltitude min.\n40 m\nAltitude max.\n180 m\n\n\n
CATEGORIES:Sortie dominicale
END:VEVENT
BEGIN:VTIMEZONE
TZID:Europe/Paris
X-LIC-LOCATION:Europe/Paris
BEGIN:DAYLIGHT
DTSTART:20250330T030000
TZOFFSETFROM:+0100
TZOFFSETTO:+0200
TZNAME:CEST
END:DAYLIGHT
END:VTIMEZONE
END:VCALENDAR