BEGIN:VCALENDAR
VERSION:2.0
PRODID:-//wp-events-plugin.com//7.2.3.1//EN
TZID:Europe/Paris
X-WR-TIMEZONE:Europe/Paris
BEGIN:VEVENT
UID:179@acpavilly.fr
DTSTART;TZID=Europe/Paris:20250406T090000
DTEND;TZID=Europe/Paris:20250406T120000
DTSTAMP:20241221T122548Z
URL:https://www.acpavilly.fr/events/circuit-n-070/
SUMMARY:Circuit n° 070
DESCRIPTION:\n\n\nDistance\n50.00 km\nDénivelé +\n492 m\nDénivelé -\n50
 3 m\nAltitude min.\n7 m\nAltitude max.\n138 m\n\n\n
CATEGORIES:Sortie dominicale
END:VEVENT
BEGIN:VTIMEZONE
TZID:Europe/Paris
X-LIC-LOCATION:Europe/Paris
BEGIN:DAYLIGHT
DTSTART:20250330T030000
TZOFFSETFROM:+0100
TZOFFSETTO:+0200
TZNAME:CEST
END:DAYLIGHT
END:VTIMEZONE
END:VCALENDAR