BEGIN:VCALENDAR
VERSION:2.0
PRODID:-//wp-events-plugin.com//7.2.3.1//EN
TZID:Europe/Paris
X-WR-TIMEZONE:Europe/Paris
BEGIN:VEVENT
UID:15@acpavilly.fr
DTSTART;TZID=Europe/Paris:20241027T083000
DTEND;TZID=Europe/Paris:20241027T120000
DTSTAMP:20231226T102018Z
URL:https://www.acpavilly.fr/events/circuit-n-048/
SUMMARY:Circuit n° 048
DESCRIPTION:\n\n\nDistance\n56.48 km\nDénivelé +\n529 m\nDénivelé -\n53
 4 m\nAltitude min.\n32 m\nAltitude max.\n177 m\n\n\n
CATEGORIES:Sortie dominicale
END:VEVENT
BEGIN:VTIMEZONE
TZID:Europe/Paris
X-LIC-LOCATION:Europe/Paris
BEGIN:STANDARD
DTSTART:20241027T020000
TZOFFSETFROM:+0200
TZOFFSETTO:+0100
TZNAME:CET
END:STANDARD
END:VTIMEZONE
END:VCALENDAR