BEGIN:VCALENDAR
VERSION:2.0
PRODID:-//wp-events-plugin.com//7.2.3.1//EN
TZID:Europe/Paris
X-WR-TIMEZONE:Europe/Paris
BEGIN:VEVENT
UID:232@acpavilly.fr
DTSTART;TZID=Europe/Paris:20261218T210000
DTEND;TZID=Europe/Paris:20261218T234500
DTSTAMP:20260103T075837Z
URL:https://www.acpavilly.fr/events/solstice-dhiver-2026/
SUMMARY:Solstice d'hiver 2026
DESCRIPTION:
CATEGORIES:Solstice
END:VEVENT
BEGIN:VTIMEZONE
TZID:Europe/Paris
X-LIC-LOCATION:Europe/Paris
BEGIN:STANDARD
DTSTART:20261025T020000
TZOFFSETFROM:+0200
TZOFFSETTO:+0100
TZNAME:CET
END:STANDARD
END:VTIMEZONE
END:VCALENDAR