BEGIN:VCALENDAR
VERSION:2.0
PRODID:-//wp-events-plugin.com//7.2.3.1//EN
TZID:Europe/Paris
X-WR-TIMEZONE:Europe/Paris
BEGIN:VEVENT
UID:231@acpavilly.fr
DTSTART;TZID=Europe/Paris:20260619T210000
DTEND;TZID=Europe/Paris:20260619T234500
DTSTAMP:20260103T075801Z
URL:https://www.acpavilly.fr/events/solstice-dete-2026/
SUMMARY:Solstice d'été 2026
DESCRIPTION:
CATEGORIES:Solstice
END:VEVENT
BEGIN:VTIMEZONE
TZID:Europe/Paris
X-LIC-LOCATION:Europe/Paris
BEGIN:DAYLIGHT
DTSTART:20260329T030000
TZOFFSETFROM:+0100
TZOFFSETTO:+0200
TZNAME:CEST
END:DAYLIGHT
END:VTIMEZONE
END:VCALENDAR