BEGIN:VCALENDAR
VERSION:2.0
PRODID:-//wp-events-plugin.com//7.2.3.1//EN
TZID:Europe/Paris
X-WR-TIMEZONE:Europe/Paris
BEGIN:VEVENT
UID:34@acpavilly.fr
DTSTART;TZID=Europe/Paris;VALUE=DATE:20230507
DTEND;TZID=Europe/Paris;VALUE=DATE:20230508
DTSTAMP:20230410T134904Z
URL:https://www.acpavilly.fr/events/randonnee-des-postiers-asptt-dieppe-st
 -aubin-le-cauf/
SUMMARY:Randonnée des postiers - ASPTT Dieppe - St Aubin le Cauf
DESCRIPTION:ASPTT DIEPPE : Randonnée des Postiers\nAccueil : 7h45 à 10h30
 \, Parking de la Mairie salle PN 102 à SAINT-AUBINLE-CAUF - Distances rou
 te : 50-80 km -\nDépart en voitures personnelles 7h30\nClôture : 13h30
CATEGORIES:Les cyclos du coin
END:VEVENT
BEGIN:VTIMEZONE
TZID:Europe/Paris
X-LIC-LOCATION:Europe/Paris
BEGIN:DAYLIGHT
DTSTART:20230326T030000
TZOFFSETFROM:+0100
TZOFFSETTO:+0200
TZNAME:CEST
END:DAYLIGHT
END:VTIMEZONE
END:VCALENDAR