BEGIN:VCALENDAR
VERSION:2.0
PRODID:-//wp-events-plugin.com//7.2.3.1//EN
TZID:Europe/Paris
X-WR-TIMEZONE:Europe/Paris
BEGIN:VEVENT
UID:11@acpavilly.fr
DTSTART;TZID=Europe/Paris;VALUE=DATE:20230610
DTEND;TZID=Europe/Paris;VALUE=DATE:20230619
DTSTAMP:20230204T151436Z
URL:https://www.acpavilly.fr/events/longue-distance-letoile-normande-pour-
 les-finishers/
SUMMARY:Longue distance – L’Étoile normande pour les « finishers »
DESCRIPTION:Le Comité régional de cyclotourisme de Normandie vous propose
  son « Étoile normande » du samedi 10 au dimanche 18 juin 2023. Pour le
 s gourmands de kilomètres !\n\nPour plus d'informations :\n\nhttps://norm
 andie.ffvelo.fr/randonnee-longue-distance-du-coreg-letoile-normande/\n\nht
 tps://www.facebook.com/RayonsNormands\n\n[caption id="" align="aligncenter
 " width="566"] Affiche Etoile normande 2023[/caption]
CATEGORIES:Autres manifestation,Les Brevets des Randonneurs Mondiaux
END:VEVENT
BEGIN:VTIMEZONE
TZID:Europe/Paris
X-LIC-LOCATION:Europe/Paris
BEGIN:DAYLIGHT
DTSTART:20230326T030000
TZOFFSETFROM:+0100
TZOFFSETTO:+0200
TZNAME:CEST
END:DAYLIGHT
END:VTIMEZONE
END:VCALENDAR