BEGIN:VCALENDAR
VERSION:2.0
PRODID:-//wp-events-plugin.com//7.2.3.1//EN
TZID:Europe/Paris
X-WR-TIMEZONE:Europe/Paris
BEGIN:VEVENT
UID:206@acpavilly.fr
DTSTART;TZID=Europe/Paris:20250316T090000
DTEND;TZID=Europe/Paris:20250316T120000
DTSTAMP:20241222T133407Z
URL:https://www.acpavilly.fr/events/circuit-n-191/
SUMMARY:Circuit n° 191
DESCRIPTION:\n\n\nDistance\n46.80 km\nDénivelé +\n437 m\nDénivelé -\n43
 7 m\nAltitude min.\n51 m\nAltitude max.\n182 m\n\n\n
CATEGORIES:Sortie dominicale
END:VEVENT
BEGIN:VTIMEZONE
TZID:Europe/Paris
X-LIC-LOCATION:Europe/Paris
BEGIN:STANDARD
DTSTART:20241027T020000
TZOFFSETFROM:+0200
TZOFFSETTO:+0100
TZNAME:CET
END:STANDARD
END:VTIMEZONE
END:VCALENDAR