BEGIN:VCALENDAR
VERSION:2.0
PRODID:-//wp-events-plugin.com//7.2.3.1//EN
TZID:Europe/Paris
X-WR-TIMEZONE:Europe/Paris
BEGIN:VEVENT
UID:205@acpavilly.fr
DTSTART;TZID=Europe/Paris:20250501T083000
DTEND;TZID=Europe/Paris:20250501T120000
DTSTAMP:20250111T093128Z
URL:https://www.acpavilly.fr/events/circuit-n-189/
SUMMARY:Circuit n° 189
DESCRIPTION:\n\n\nDistance\n53.22 km\nDénivelé +\n525 m\nDénivelé -\n52
 5 m\nAltitude min.\n5 m\nAltitude max.\n140 m\n\n\n
CATEGORIES:Sortie dominicale
END:VEVENT
BEGIN:VTIMEZONE
TZID:Europe/Paris
X-LIC-LOCATION:Europe/Paris
BEGIN:DAYLIGHT
DTSTART:20250330T030000
TZOFFSETFROM:+0100
TZOFFSETTO:+0200
TZNAME:CEST
END:DAYLIGHT
END:VTIMEZONE
END:VCALENDAR