BEGIN:VCALENDAR
VERSION:2.0
PRODID:-//wp-events-plugin.com//7.2.3.1//EN
TZID:Europe/Paris
X-WR-TIMEZONE:Europe/Paris
BEGIN:VEVENT
UID:222@acpavilly.fr
DTSTART;TZID=Europe/Paris:20261206T090000
DTEND;TZID=Europe/Paris:20261206T120000
DTSTAMP:20260103T070617Z
URL:https://www.acpavilly.fr/events/circuit-n-178/
SUMMARY:Circuit n° 178
DESCRIPTION:\n\n\nDistance\n38.3 km\nDénivelé +\n400 m\nDénivelé -\n400
  m\nAltitude min.\n57 m\nAltitude max.\n172 m\n\n\n\n&nbsp\;
CATEGORIES:Sortie dominicale
END:VEVENT
BEGIN:VTIMEZONE
TZID:Europe/Paris
X-LIC-LOCATION:Europe/Paris
BEGIN:STANDARD
DTSTART:20261025T020000
TZOFFSETFROM:+0200
TZOFFSETTO:+0100
TZNAME:CET
END:STANDARD
END:VTIMEZONE
END:VCALENDAR