BEGIN:VCALENDAR
VERSION:2.0
PRODID:-//wp-events-plugin.com//7.2.3.1//EN
TZID:Europe/Paris
X-WR-TIMEZONE:Europe/Paris
BEGIN:VEVENT
UID:91@acpavilly.fr
DTSTART;TZID=Europe/Paris:20240218T090000
DTEND;TZID=Europe/Paris:20240218T120000
DTSTAMP:20231226T083348Z
URL:https://www.acpavilly.fr/events/circuit-n-168/
SUMMARY:Circuit n° 168
DESCRIPTION:\n\n\nDistance\n46.67 km\nDénivelé +\n432 m\nDénivelé -\n44
 1 m\nAltitude min.\n9 m\nAltitude max.\n168 m\n\n\n
CATEGORIES:Sortie dominicale
END:VEVENT
BEGIN:VTIMEZONE
TZID:Europe/Paris
X-LIC-LOCATION:Europe/Paris
BEGIN:STANDARD
DTSTART:20231029T020000
TZOFFSETFROM:+0200
TZOFFSETTO:+0100
TZNAME:CET
END:STANDARD
END:VTIMEZONE
END:VCALENDAR