BEGIN:VCALENDAR
VERSION:2.0
PRODID:-//wp-events-plugin.com//7.2.3.1//EN
TZID:Europe/Paris
X-WR-TIMEZONE:Europe/Paris
BEGIN:VEVENT
UID:201@acpavilly.fr
DTSTART;TZID=Europe/Paris:20250101T090000
DTEND;TZID=Europe/Paris:20250101T120000
DTSTAMP:20241222T125715Z
URL:https://www.acpavilly.fr/events/circuit-n-158/
SUMMARY:Circuit n° 158
DESCRIPTION:\n\n\nDistance\n30.33 km\nDénivelé +\n301 m\nDénivelé -\n29
 9 m\nAltitude min.\n12 m\nAltitude max.\n120 m\n\n\n
CATEGORIES:Sortie dominicale
END:VEVENT
BEGIN:VTIMEZONE
TZID:Europe/Paris
X-LIC-LOCATION:Europe/Paris
BEGIN:STANDARD
DTSTART:20241027T020000
TZOFFSETFROM:+0200
TZOFFSETTO:+0100
TZNAME:CET
END:STANDARD
END:VTIMEZONE
END:VCALENDAR