BEGIN:VCALENDAR
VERSION:2.0
PRODID:-//wp-events-plugin.com//7.2.3.1//EN
TZID:Europe/Paris
X-WR-TIMEZONE:Europe/Paris
BEGIN:VEVENT
UID:200@acpavilly.fr
DTSTART;TZID=Europe/Paris:20250714T080000
DTEND;TZID=Europe/Paris:20250714T120000
DTSTAMP:20250111T093650Z
URL:https://www.acpavilly.fr/events/circuit-n-156/
SUMMARY:Circuit n° 156
DESCRIPTION:\n\n\nDistance\n66.08 km\nDénivelé +\n542 m\nDénivelé -\n54
 2  m\nAltitude min.\n58 m\nAltitude max.\n183 m\n\n\n
CATEGORIES:Sortie dominicale
END:VEVENT
BEGIN:VTIMEZONE
TZID:Europe/Paris
X-LIC-LOCATION:Europe/Paris
BEGIN:DAYLIGHT
DTSTART:20250330T030000
TZOFFSETFROM:+0100
TZOFFSETTO:+0200
TZNAME:CEST
END:DAYLIGHT
END:VTIMEZONE
END:VCALENDAR