BEGIN:VCALENDAR
VERSION:2.0
PRODID:-//wp-events-plugin.com//7.2.3.1//EN
TZID:Europe/Paris
X-WR-TIMEZONE:Europe/Paris
BEGIN:VEVENT
UID:96@acpavilly.fr
DTSTART;TZID=Europe/Paris:20240401T090000
DTEND;TZID=Europe/Paris:20240401T120000
DTSTAMP:20231226T085243Z
URL:https://www.acpavilly.fr/events/circuit-n-155/
SUMMARY:Circuit n° 155
DESCRIPTION:\n\n\nDistance\n50.89 km\nDénivelé +\n499 m\nDénivelé -\n49
 3 m\nAltitude min.\n9 m\nAltitude max.\n168 m\n\n\n
CATEGORIES:Sortie dominicale
END:VEVENT
BEGIN:VTIMEZONE
TZID:Europe/Paris
X-LIC-LOCATION:Europe/Paris
BEGIN:DAYLIGHT
DTSTART:20240331T030000
TZOFFSETFROM:+0100
TZOFFSETTO:+0200
TZNAME:CEST
END:DAYLIGHT
END:VTIMEZONE
END:VCALENDAR