BEGIN:VCALENDAR
VERSION:2.0
PRODID:-//wp-events-plugin.com//7.2.3.1//EN
TZID:Europe/Paris
X-WR-TIMEZONE:Europe/Paris
BEGIN:VEVENT
UID:93@acpavilly.fr
DTSTART;TZID=Europe/Paris:20240303T090000
DTEND;TZID=Europe/Paris:20240303T120000
DTSTAMP:20231226T083918Z
URL:https://www.acpavilly.fr/events/circuit-n-154/
SUMMARY:Circuit n° 154
DESCRIPTION:\n\n\nDistance\n53.38 km\nDénivelé +\n542 m\nDénivelé -\n53
 6 m\nAltitude min.\n57 m\nAltitude max.\n183 m\n\n\n
CATEGORIES:Sortie dominicale
END:VEVENT
BEGIN:VTIMEZONE
TZID:Europe/Paris
X-LIC-LOCATION:Europe/Paris
BEGIN:STANDARD
DTSTART:20231029T020000
TZOFFSETFROM:+0200
TZOFFSETTO:+0100
TZNAME:CET
END:STANDARD
END:VTIMEZONE
END:VCALENDAR