BEGIN:VCALENDAR
VERSION:2.0
PRODID:-//wp-events-plugin.com//7.2.3.1//EN
TZID:Europe/Paris
X-WR-TIMEZONE:Europe/Paris
BEGIN:VEVENT
UID:14@acpavilly.fr
DTSTART;TZID=Europe/Paris:20240331T090000
DTEND;TZID=Europe/Paris:20240331T120000
DTSTAMP:20231226T085059Z
URL:https://www.acpavilly.fr/events/circuit-n-152/
SUMMARY:Circuit n° 152
DESCRIPTION:\n\n\nDistance\n57.02 km\nDénivelé +\n555 m\nDénivelé -\n55
 3 m\nAltitude min.\n57 m\nAltitude max.\n172 m\n\n\n
CATEGORIES:Sortie dominicale
END:VEVENT
BEGIN:VTIMEZONE
TZID:Europe/Paris
X-LIC-LOCATION:Europe/Paris
BEGIN:DAYLIGHT
DTSTART:20240331T030000
TZOFFSETFROM:+0100
TZOFFSETTO:+0200
TZNAME:CEST
END:DAYLIGHT
END:VTIMEZONE
END:VCALENDAR