BEGIN:VCALENDAR
VERSION:2.0
PRODID:-//wp-events-plugin.com//7.2.3.1//EN
TZID:Europe/Paris
X-WR-TIMEZONE:Europe/Paris
BEGIN:VEVENT
UID:104@acpavilly.fr
DTSTART;TZID=Europe/Paris:20240512T080000
DTEND;TZID=Europe/Paris:20240512T120000
DTSTAMP:20231226T091453Z
URL:https://www.acpavilly.fr/events/circuit-n-147/
SUMMARY:Circuit n° 147
DESCRIPTION:\n\n\nDistance\n67.69 km\nDénivelé +\n741 m\nDénivelé -\n73
 5 m\nAltitude min.\n54 m\nAltitude max.\n176 m\n\n\n
CATEGORIES:Sortie dominicale
END:VEVENT
BEGIN:VTIMEZONE
TZID:Europe/Paris
X-LIC-LOCATION:Europe/Paris
BEGIN:DAYLIGHT
DTSTART:20240331T030000
TZOFFSETFROM:+0100
TZOFFSETTO:+0200
TZNAME:CEST
END:DAYLIGHT
END:VTIMEZONE
END:VCALENDAR