BEGIN:VCALENDAR
VERSION:2.0
PRODID:-//wp-events-plugin.com//7.2.3.1//EN
TZID:Europe/Paris
X-WR-TIMEZONE:Europe/Paris
BEGIN:VEVENT
UID:101@acpavilly.fr
DTSTART;TZID=Europe/Paris:20250713T080000
DTEND;TZID=Europe/Paris:20250713T120000
DTSTAMP:20250111T093630Z
URL:https://www.acpavilly.fr/events/circuit-n-146/
SUMMARY:Circuit n° 146
DESCRIPTION:\n\n\nDistance\n67.87 km\nDénivelé +\n580 m\nDénivelé -\n57
 5 m\nAltitude min.\n7 m\nAltitude max.\n181 m\n\n\n
CATEGORIES:Sortie dominicale
END:VEVENT
BEGIN:VTIMEZONE
TZID:Europe/Paris
X-LIC-LOCATION:Europe/Paris
BEGIN:DAYLIGHT
DTSTART:20250330T030000
TZOFFSETFROM:+0100
TZOFFSETTO:+0200
TZNAME:CEST
END:DAYLIGHT
END:VTIMEZONE
END:VCALENDAR