BEGIN:VCALENDAR
VERSION:2.0
PRODID:-//wp-events-plugin.com//7.2.3.1//EN
TZID:Europe/Paris
X-WR-TIMEZONE:Europe/Paris
BEGIN:VEVENT
UID:198@acpavilly.fr
DTSTART;TZID=Europe/Paris:20250427T090000
DTEND;TZID=Europe/Paris:20250427T120000
DTSTAMP:20241222T085558Z
URL:https://www.acpavilly.fr/events/circuit-n-141/
SUMMARY:Circuit n° 141
DESCRIPTION:\n\n\nDistance\n52.89 km\nDénivelé +\n446 m\nDénivelé -\n45
 4 m\nAltitude min.\n64 m\nAltitude max.\n172  m\n\n\n
CATEGORIES:Sortie dominicale
END:VEVENT
BEGIN:VTIMEZONE
TZID:Europe/Paris
X-LIC-LOCATION:Europe/Paris
BEGIN:DAYLIGHT
DTSTART:20250330T030000
TZOFFSETFROM:+0100
TZOFFSETTO:+0200
TZNAME:CEST
END:DAYLIGHT
END:VTIMEZONE
END:VCALENDAR