BEGIN:VCALENDAR
VERSION:2.0
PRODID:-//wp-events-plugin.com//7.2.3.1//EN
TZID:Europe/Paris
X-WR-TIMEZONE:Europe/Paris
BEGIN:VEVENT
UID:193@acpavilly.fr
DTSTART;TZID=Europe/Paris:20250302T090000
DTEND;TZID=Europe/Paris:20250302T120000
DTSTAMP:20241221T143126Z
URL:https://www.acpavilly.fr/events/circuit-n-124/
SUMMARY:Circuit n° 124
DESCRIPTION:\n\n\nDistance\n42.52 km\nDénivelé +\n332 m\nDénivelé -\n33
 1 m\nAltitude min.\n52 m\nAltitude max.\n175 m\n\n\n
CATEGORIES:Sortie dominicale
END:VEVENT
BEGIN:VTIMEZONE
TZID:Europe/Paris
X-LIC-LOCATION:Europe/Paris
BEGIN:STANDARD
DTSTART:20241027T020000
TZOFFSETFROM:+0200
TZOFFSETTO:+0100
TZNAME:CET
END:STANDARD
END:VTIMEZONE
END:VCALENDAR