BEGIN:VCALENDAR
VERSION:2.0
PRODID:-//wp-events-plugin.com//7.2.3.1//EN
TZID:Europe/Paris
X-WR-TIMEZONE:Europe/Paris
BEGIN:VEVENT
UID:190@acpavilly.fr
DTSTART;TZID=Europe/Paris:20250810T083000
DTEND;TZID=Europe/Paris:20250810T120000
DTSTAMP:20250111T093741Z
URL:https://www.acpavilly.fr/events/circuit-n-120/
SUMMARY:Circuit n° 120
DESCRIPTION:\n\n\nDistance\n60.80 km\nDénivelé +\n446 m\nDénivelé -\n46
 2 m\nAltitude min.\n51 m\nAltitude max.\n176 m\n\n\n
CATEGORIES:Sortie dominicale
END:VEVENT
BEGIN:VTIMEZONE
TZID:Europe/Paris
X-LIC-LOCATION:Europe/Paris
BEGIN:DAYLIGHT
DTSTART:20250330T030000
TZOFFSETFROM:+0100
TZOFFSETTO:+0200
TZNAME:CEST
END:DAYLIGHT
END:VTIMEZONE
END:VCALENDAR