BEGIN:VCALENDAR
VERSION:2.0
PRODID:-//wp-events-plugin.com//7.2.3.1//EN
TZID:Europe/Paris
X-WR-TIMEZONE:Europe/Paris
BEGIN:VEVENT
UID:24@acpavilly.fr
DTSTART;TZID=Europe/Paris:20230430T083000
DTEND;TZID=Europe/Paris:20230430T113000
DTSTAMP:20230410T122210Z
URL:https://www.acpavilly.fr/events/circuit-n-119/
SUMMARY:Circuit n° 119
DESCRIPTION:\n\n\nDistance\n69.94 km\nDénivelé +\n534 m\nDénivelé -\n53
 0 m\nAltitude min.\n49 m\nAltitude max.\n179 m\n\n\n
CATEGORIES:Sortie dominicale
END:VEVENT
BEGIN:VTIMEZONE
TZID:Europe/Paris
X-LIC-LOCATION:Europe/Paris
BEGIN:DAYLIGHT
DTSTART:20230326T030000
TZOFFSETFROM:+0100
TZOFFSETTO:+0200
TZNAME:CEST
END:DAYLIGHT
END:VTIMEZONE
END:VCALENDAR