BEGIN:VCALENDAR
VERSION:2.0
PRODID:-//wp-events-plugin.com//7.2.3.1//EN
TZID:Europe/Paris
X-WR-TIMEZONE:Europe/Paris
BEGIN:VEVENT
UID:189@acpavilly.fr
DTSTART;TZID=Europe/Paris:20261227T090000
DTEND;TZID=Europe/Paris:20261227T120000
DTSTAMP:20260103T070257Z
URL:https://www.acpavilly.fr/events/circuit-n-112/
SUMMARY:Circuit n° 112
DESCRIPTION:\n\n\nDistance\n33.01 km\nDénivelé +\n322 m\nDénivelé -\n32
 5 m\nAltitude min.\n18 m\nAltitude max.\n137 m\n\n\n
CATEGORIES:Sortie dominicale
END:VEVENT
BEGIN:VTIMEZONE
TZID:Europe/Paris
X-LIC-LOCATION:Europe/Paris
BEGIN:STANDARD
DTSTART:20261025T020000
TZOFFSETFROM:+0200
TZOFFSETTO:+0100
TZNAME:CET
END:STANDARD
END:VTIMEZONE
END:VCALENDAR