BEGIN:VCALENDAR
VERSION:2.0
PRODID:-//wp-events-plugin.com//7.2.3.1//EN
TZID:Europe/Paris
X-WR-TIMEZONE:Europe/Paris
BEGIN:VEVENT
UID:185@acpavilly.fr
DTSTART;TZID=Europe/Paris:20251116T090000
DTEND;TZID=Europe/Paris:20251116T120000
DTSTAMP:20241221T134011Z
URL:https://www.acpavilly.fr/events/circuit-n-103/
SUMMARY:Circuit n° 103
DESCRIPTION:\n\n\nDistance\n42.34 km\nDénivelé +\n390 m\nDénivelé -\n38
 4 m\nAltitude min.\n52 m\nAltitude max.\n162 m\n\n\n
CATEGORIES:Sortie dominicale
END:VEVENT
BEGIN:VTIMEZONE
TZID:Europe/Paris
X-LIC-LOCATION:Europe/Paris
BEGIN:STANDARD
DTSTART:20251026T020000
TZOFFSETFROM:+0200
TZOFFSETTO:+0100
TZNAME:CET
END:STANDARD
END:VTIMEZONE
END:VCALENDAR