BEGIN:VCALENDAR
VERSION:2.0
PRODID:-//wp-events-plugin.com//7.2.3.1//EN
TZID:Europe/Paris
X-WR-TIMEZONE:Europe/Paris
BEGIN:VEVENT
UID:87@acpavilly.fr
DTSTART;TZID=Europe/Paris:20251026T090000
DTEND;TZID=Europe/Paris:20251026T120000
DTSTAMP:20241221T130216Z
URL:https://www.acpavilly.fr/events/circuit-n-099/
SUMMARY:Circuit n° 099
DESCRIPTION:\n\n\nDistance\n45.11 km\nDénivelé +\n372 m\nDénivelé -\n37
 1 m\nAltitude min.\n57 m\nAltitude max.\n179 m\n\n\n
CATEGORIES:Sortie dominicale
END:VEVENT
BEGIN:VTIMEZONE
TZID:Europe/Paris
X-LIC-LOCATION:Europe/Paris
BEGIN:STANDARD
DTSTART:20251026T020000
TZOFFSETFROM:+0200
TZOFFSETTO:+0100
TZNAME:CET
END:STANDARD
END:VTIMEZONE
END:VCALENDAR