BEGIN:VCALENDAR
VERSION:2.0
PRODID:-//wp-events-plugin.com//7.2.3.1//EN
TZID:Europe/Paris
X-WR-TIMEZONE:Europe/Paris
BEGIN:VEVENT
UID:183@acpavilly.fr
DTSTART;TZID=Europe/Paris:20250508T083000
DTEND;TZID=Europe/Paris:20250508T120000
DTSTAMP:20250111T093212Z
URL:https://www.acpavilly.fr/events/circuit-n-093/
SUMMARY:Circuit n° 093
DESCRIPTION:\n\n\nDistance\n58.02 km\nDénivelé +\n482 m\nDénivelé -\n48
 0 m\nAltitude min.\n43 m\nAltitude max.\n176 m\n\n\n
CATEGORIES:Sortie dominicale
END:VEVENT
BEGIN:VTIMEZONE
TZID:Europe/Paris
X-LIC-LOCATION:Europe/Paris
BEGIN:DAYLIGHT
DTSTART:20250330T030000
TZOFFSETFROM:+0100
TZOFFSETTO:+0200
TZNAME:CEST
END:DAYLIGHT
END:VTIMEZONE
END:VCALENDAR