BEGIN:VCALENDAR
VERSION:2.0
PRODID:-//wp-events-plugin.com//7.2.3.1//EN
TZID:Europe/Paris
X-WR-TIMEZONE:Europe/Paris
BEGIN:VEVENT
UID:32@acpavilly.fr
DTSTART;TZID=Europe/Paris:20250907T090000
DTEND;TZID=Europe/Paris:20250907T120000
DTSTAMP:20241221T124756Z
URL:https://www.acpavilly.fr/events/circuit-n-089/
SUMMARY:Circuit n° 089
DESCRIPTION:\n\n\nDistance\n53.85 km\nDénivelé +\n592 m\nDénivelé -\n59
 4 m\nAltitude min.\n8 m\nAltitude max.\n141 m\n\n\n
CATEGORIES:Sortie dominicale
END:VEVENT
BEGIN:VTIMEZONE
TZID:Europe/Paris
X-LIC-LOCATION:Europe/Paris
BEGIN:DAYLIGHT
DTSTART:20250330T030000
TZOFFSETFROM:+0100
TZOFFSETTO:+0200
TZNAME:CEST
END:DAYLIGHT
END:VTIMEZONE
END:VCALENDAR