BEGIN:VCALENDAR
VERSION:2.0
PRODID:-//wp-events-plugin.com//7.2.3.1//EN
TZID:Europe/Paris
X-WR-TIMEZONE:Europe/Paris
BEGIN:VEVENT
UID:207@acpavilly.fr
DTSTART;TZID=Europe/Paris:20250420T090000
DTEND;TZID=Europe/Paris:20250420T120000
DTSTAMP:20241222T150608Z
URL:https://www.acpavilly.fr/events/circuit-n-083/
SUMMARY:Circuit n° 083
DESCRIPTION:\n\n\nDistance\n51km\nDénivelé +\n560  m\nDénivelé -\n557 
 m\nAltitude min.\n56 m\nAltitude max.\n184 m\n\n\n
CATEGORIES:Sortie dominicale
END:VEVENT
BEGIN:VTIMEZONE
TZID:Europe/Paris
X-LIC-LOCATION:Europe/Paris
BEGIN:DAYLIGHT
DTSTART:20250330T030000
TZOFFSETFROM:+0100
TZOFFSETTO:+0200
TZNAME:CEST
END:DAYLIGHT
END:VTIMEZONE
END:VCALENDAR