BEGIN:VCALENDAR
VERSION:2.0
PRODID:-//wp-events-plugin.com//7.2.3.1//EN
TZID:Europe/Paris
X-WR-TIMEZONE:Europe/Paris
BEGIN:VEVENT
UID:92@acpavilly.fr
DTSTART;TZID=Europe/Paris:20250928T090000
DTEND;TZID=Europe/Paris:20250928T120000
DTSTAMP:20250927T074529Z
URL:https://www.acpavilly.fr/events/circuit-n-059/
SUMMARY:Circuit n° 059
DESCRIPTION:\n\n\nDistance\n50.70 km\nDénivelé +\n442 m\nDénivelé -\n44
 0 m\nAltitude min.\n51 m\nAltitude max.\n178 m\n\n\n
CATEGORIES:Sortie dominicale
END:VEVENT
BEGIN:VTIMEZONE
TZID:Europe/Paris
X-LIC-LOCATION:Europe/Paris
BEGIN:DAYLIGHT
DTSTART:20250330T030000
TZOFFSETFROM:+0100
TZOFFSETTO:+0200
TZNAME:CEST
END:DAYLIGHT
END:VTIMEZONE
END:VCALENDAR