BEGIN:VCALENDAR
VERSION:2.0
PRODID:-//wp-events-plugin.com//7.2.3.1//EN
TZID:Europe/Paris
X-WR-TIMEZONE:Europe/Paris
BEGIN:VEVENT
UID:177@acpavilly.fr
DTSTART;TZID=Europe/Paris:20250824T083000
DTEND;TZID=Europe/Paris:20250824T120000
DTSTAMP:20250111T093755Z
URL:https://www.acpavilly.fr/events/circuit-n-039/
SUMMARY:Circuit n° 039
DESCRIPTION:\n\n\nDistance\n56.05 km\nDénivelé +\n436 m\nDénivelé -\n43
 1 m\nAltitude min.\n0 m\nAltitude max.\n122 m\n\n\n
CATEGORIES:Sortie dominicale
END:VEVENT
BEGIN:VTIMEZONE
TZID:Europe/Paris
X-LIC-LOCATION:Europe/Paris
BEGIN:DAYLIGHT
DTSTART:20250330T030000
TZOFFSETFROM:+0100
TZOFFSETTO:+0200
TZNAME:CEST
END:DAYLIGHT
END:VTIMEZONE
END:VCALENDAR