BEGIN:VCALENDAR
VERSION:2.0
PRODID:-//wp-events-plugin.com//7.2.3.1//EN
TZID:Europe/Paris
X-WR-TIMEZONE:Europe/Paris
BEGIN:VEVENT
UID:176@acpavilly.fr
DTSTART;TZID=Europe/Paris:20250629T080000
DTEND;TZID=Europe/Paris:20250629T120000
DTSTAMP:20250111T093511Z
URL:https://www.acpavilly.fr/events/circuit-n-034/
SUMMARY:Circuit n° 034
DESCRIPTION:\n\n\nDistance\n72.94 km\nDénivelé +\n659 m\nDénivelé -\n65
 6 m\nAltitude min.\n4 m\nAltitude max.\n144 m\n\n\n
CATEGORIES:Sortie dominicale
END:VEVENT
BEGIN:VTIMEZONE
TZID:Europe/Paris
X-LIC-LOCATION:Europe/Paris
BEGIN:DAYLIGHT
DTSTART:20250330T030000
TZOFFSETFROM:+0100
TZOFFSETTO:+0200
TZNAME:CEST
END:DAYLIGHT
END:VTIMEZONE
END:VCALENDAR