BEGIN:VCALENDAR
VERSION:2.0
PRODID:-//wp-events-plugin.com//7.2.3.1//EN
TZID:Europe/Paris
X-WR-TIMEZONE:Europe/Paris
BEGIN:VEVENT
UID:175@acpavilly.fr
DTSTART;TZID=Europe/Paris:20250622T080000
DTEND;TZID=Europe/Paris:20250622T120000
DTSTAMP:20250111T093504Z
URL:https://www.acpavilly.fr/events/circuit-n-033/
SUMMARY:Circuit n° 033
DESCRIPTION:\n\n\nDistance\n72.72 km\nDénivelé +\n616 m\nDénivelé -\n61
 7 m\nAltitude min.\n1 m\nAltitude max.\n163 m\n\n\n
CATEGORIES:Sortie dominicale
END:VEVENT
BEGIN:VTIMEZONE
TZID:Europe/Paris
X-LIC-LOCATION:Europe/Paris
BEGIN:DAYLIGHT
DTSTART:20250330T030000
TZOFFSETFROM:+0100
TZOFFSETTO:+0200
TZNAME:CEST
END:DAYLIGHT
END:VTIMEZONE
END:VCALENDAR