BEGIN:VCALENDAR
VERSION:2.0
PRODID:-//wp-events-plugin.com//7.2.3.1//EN
TZID:Europe/Paris
X-WR-TIMEZONE:Europe/Paris
BEGIN:VEVENT
UID:121@acpavilly.fr
DTSTART;TZID=Europe/Paris:20250720T080000
DTEND;TZID=Europe/Paris:20250720T120000
DTSTAMP:20250111T093637Z
URL:https://www.acpavilly.fr/events/circuit-n-032/
SUMMARY:Circuit n° 032
DESCRIPTION:\n\n\nDistance\n65.82 km\nDénivelé +\n650 m\nDénivelé -\n64
 3 m\nAltitude min.\n8 m\nAltitude max.\n150 m\n\n\n
CATEGORIES:Sortie dominicale
END:VEVENT
BEGIN:VTIMEZONE
TZID:Europe/Paris
X-LIC-LOCATION:Europe/Paris
BEGIN:DAYLIGHT
DTSTART:20250330T030000
TZOFFSETFROM:+0100
TZOFFSETTO:+0200
TZNAME:CEST
END:DAYLIGHT
END:VTIMEZONE
END:VCALENDAR