BEGIN:VCALENDAR
VERSION:2.0
PRODID:-//wp-events-plugin.com//7.2.3.1//EN
TZID:Europe/Paris
X-WR-TIMEZONE:Europe/Paris
BEGIN:VEVENT
UID:122@acpavilly.fr
DTSTART;TZID=Europe/Paris:20241013T083000
DTEND;TZID=Europe/Paris:20241013T120000
DTSTAMP:20231226T101428Z
URL:https://www.acpavilly.fr/events/circuit-n-031/
SUMMARY:Circuit n° 031
DESCRIPTION:\n\n\nDistance\n66.10 km\nDénivelé +\n600 m\nDénivelé -\n59
 9 m\nAltitude min.\n7 m\nAltitude max.\n181 m\n\n\n
CATEGORIES:Sortie dominicale
END:VEVENT
BEGIN:VTIMEZONE
TZID:Europe/Paris
X-LIC-LOCATION:Europe/Paris
BEGIN:DAYLIGHT
DTSTART:20240331T030000
TZOFFSETFROM:+0100
TZOFFSETTO:+0200
TZNAME:CEST
END:DAYLIGHT
END:VTIMEZONE
END:VCALENDAR