BEGIN:VCALENDAR
VERSION:2.0
PRODID:-//wp-events-plugin.com//7.2.3.1//EN
TZID:Europe/Paris
X-WR-TIMEZONE:Europe/Paris
BEGIN:VEVENT
UID:26@acpavilly.fr
DTSTART;TZID=Europe/Paris:20250615T080000
DTEND;TZID=Europe/Paris:20250615T120000
DTSTAMP:20250111T093456Z
URL:https://www.acpavilly.fr/events/circuit-n-028/
SUMMARY:Circuit n° 028
DESCRIPTION:\n\n\nDistance\n68.47 km\nDénivelé +\n645 m\nDénivelé -\n64
 1 m\nAltitude min.\n54 m\nAltitude max.\n172 m\n\n\n
CATEGORIES:Sortie dominicale
END:VEVENT
BEGIN:VTIMEZONE
TZID:Europe/Paris
X-LIC-LOCATION:Europe/Paris
BEGIN:DAYLIGHT
DTSTART:20250330T030000
TZOFFSETFROM:+0100
TZOFFSETTO:+0200
TZNAME:CEST
END:DAYLIGHT
END:VTIMEZONE
END:VCALENDAR