BEGIN:VCALENDAR
VERSION:2.0
PRODID:-//wp-events-plugin.com//7.2.3.1//EN
TZID:Europe/Paris
X-WR-TIMEZONE:Europe/Paris
BEGIN:VEVENT
UID:30@acpavilly.fr
DTSTART;TZID=Europe/Paris:20230521T080000
DTEND;TZID=Europe/Paris:20230521T120000
DTSTAMP:20230410T130912Z
URL:https://www.acpavilly.fr/events/circuit-n-024/
SUMMARY:Circuit n° 024
DESCRIPTION:\n\n\nDistance\n73.63 km\nDénivelé +\n557 m\nDénivelé -\n55
 4 m\nAltitude min.\n37 m\nAltitude max.\n171 m\n\n\n
CATEGORIES:Sortie dominicale
END:VEVENT
BEGIN:VTIMEZONE
TZID:Europe/Paris
X-LIC-LOCATION:Europe/Paris
BEGIN:DAYLIGHT
DTSTART:20230326T030000
TZOFFSETFROM:+0100
TZOFFSETTO:+0200
TZNAME:CEST
END:DAYLIGHT
END:VTIMEZONE
END:VCALENDAR