BEGIN:VCALENDAR
VERSION:2.0
PRODID:-//wp-events-plugin.com//7.2.3.1//EN
TZID:Europe/Paris
X-WR-TIMEZONE:Europe/Paris
BEGIN:VEVENT
UID:120@acpavilly.fr
DTSTART;TZID=Europe/Paris:20240922T080000
DTEND;TZID=Europe/Paris:20240922T120000
DTSTAMP:20231226T095959Z
URL:https://www.acpavilly.fr/events/circuit-n-007/
SUMMARY:Circuit n° 007
DESCRIPTION:\n\n\nDistance\n77.37 km\nDénivelé +\n720 m\nDénivelé -\n71
 6 m\nAltitude min.\n1 m\nAltitude max.\n165 m\n\n\n
CATEGORIES:Sortie dominicale
END:VEVENT
BEGIN:VTIMEZONE
TZID:Europe/Paris
X-LIC-LOCATION:Europe/Paris
BEGIN:DAYLIGHT
DTSTART:20240331T030000
TZOFFSETFROM:+0100
TZOFFSETTO:+0200
TZNAME:CEST
END:DAYLIGHT
END:VTIMEZONE
END:VCALENDAR