BEGIN:VCALENDAR
VERSION:2.0
PRODID:-//wp-events-plugin.com//7.2.3.1//EN
TZID:Europe/Paris
X-WR-TIMEZONE:Europe/Paris
BEGIN:VEVENT
UID:94@acpavilly.fr
DTSTART;TZID=Europe/Paris:20240310T090000
DTEND;TZID=Europe/Paris:20240310T120000
DTSTAMP:20231226T084129Z
URL:https://www.acpavilly.fr/events/circuit-n-005/
SUMMARY:Circuit n° 005
DESCRIPTION:\n\n\nDistance\n52.34 km\nDénivelé +\n407 m\nDénivelé -\n40
 4 m\nAltitude min.\n58 m\nAltitude max.\n167 m\n\n\n
CATEGORIES:Sortie dominicale
END:VEVENT
BEGIN:VTIMEZONE
TZID:Europe/Paris
X-LIC-LOCATION:Europe/Paris
BEGIN:STANDARD
DTSTART:20231029T020000
TZOFFSETFROM:+0200
TZOFFSETTO:+0100
TZNAME:CET
END:STANDARD
END:VTIMEZONE
END:VCALENDAR