BEGIN:VCALENDAR
VERSION:2.0
PRODID:-//wp-events-plugin.com//7.2.3.1//EN
TZID:Europe/Paris
X-WR-TIMEZONE:Europe/Paris
BEGIN:VEVENT
UID:29@acpavilly.fr
DTSTART;TZID=Europe/Paris:20250921T090000
DTEND;TZID=Europe/Paris:20250921T120000
DTSTAMP:20241221T095552Z
URL:https://www.acpavilly.fr/events/circuit-n-004/
SUMMARY:Circuit n° 004
DESCRIPTION:\n\n\nDistance\n51.23 km\nDénivelé +\n480 m\nDénivelé -\n48
 0 m\nAltitude min.\n5 m\nAltitude max.\n162 m\n\n\n
CATEGORIES:Sortie dominicale
END:VEVENT
BEGIN:VTIMEZONE
TZID:Europe/Paris
X-LIC-LOCATION:Europe/Paris
BEGIN:DAYLIGHT
DTSTART:20250330T030000
TZOFFSETFROM:+0100
TZOFFSETTO:+0200
TZNAME:CEST
END:DAYLIGHT
END:VTIMEZONE
END:VCALENDAR