BEGIN:VCALENDAR
VERSION:2.0
PRODID:-//wp-events-plugin.com//7.2.3.1//EN
TZID:Europe/Paris
X-WR-TIMEZONE:Europe/Paris
BEGIN:VEVENT
UID:95@acpavilly.fr
DTSTART;TZID=Europe/Paris:20240324T090000
DTEND;TZID=Europe/Paris:20240324T120000
DTSTAMP:20231226T084925Z
URL:https://www.acpavilly.fr/events/circuit-n-002/
SUMMARY:Circuit n° 002
DESCRIPTION:\n\n\nDistance\n56.91 km\nDénivelé +\n461 m\nDénivelé -\n46
 1 m\nAltitude min.\n0 m\nAltitude max.\n136 m\n\n\n
CATEGORIES:Sortie dominicale
END:VEVENT
BEGIN:VTIMEZONE
TZID:Europe/Paris
X-LIC-LOCATION:Europe/Paris
BEGIN:STANDARD
DTSTART:20231029T020000
TZOFFSETFROM:+0200
TZOFFSETTO:+0100
TZNAME:CET
END:STANDARD
END:VTIMEZONE
END:VCALENDAR