BEGIN:VCALENDAR
VERSION:2.0
PRODID:-//wp-events-plugin.com//7.2.3.1//EN
TZID:Europe/Paris
X-WR-TIMEZONE:Europe/Paris
BEGIN:VEVENT
UID:17@acpavilly.fr
DTSTART;TZID=Europe/Paris;VALUE=DATE:20230506
DTEND;TZID=Europe/Paris;VALUE=DATE:20230507
DTSTAMP:20230311T081701Z
URL:https://www.acpavilly.fr/events/brm-400-km-la-bocagere-boulonnaise-202
 3/
SUMMARY:BRM 400 km - « La bocagère boulonnaise »
DESCRIPTION:\n\n\nDistance\n402.95 km\nDénivelé +\n3 788  m\nDénivelé 
 -\n3 794  m\nAltitude min.\n0 m\nAltitude max.\n238 m\n\n\n\nDépart 13h3
 0 - 14h30 - Fiche road book\n\n&nbsp\;
CATEGORIES:Les Brevets des Randonneurs Mondiaux
END:VEVENT
BEGIN:VTIMEZONE
TZID:Europe/Paris
X-LIC-LOCATION:Europe/Paris
BEGIN:DAYLIGHT
DTSTART:20230326T030000
TZOFFSETFROM:+0100
TZOFFSETTO:+0200
TZNAME:CEST
END:DAYLIGHT
END:VTIMEZONE
END:VCALENDAR