BEGIN:VCALENDAR
VERSION:2.0
PRODID:-//wp-events-plugin.com//7.2.3.1//EN
TZID:Europe/Paris
X-WR-TIMEZONE:Europe/Paris
BEGIN:VEVENT
UID:209@acpavilly.fr
DTSTART;TZID=Europe/Paris:20250426T033000
DTEND;TZID=Europe/Paris:20250426T220000
DTSTAMP:20250221T144556Z
URL:https://www.acpavilly.fr/events/brm-300km-hortillonnage/
SUMMARY:BRM 300km - « Hortillonnage »
DESCRIPTION:Inscrivez vous via ce formulaire.\n
CATEGORIES:Les Brevets des Randonneurs Mondiaux
END:VEVENT
BEGIN:VTIMEZONE
TZID:Europe/Paris
X-LIC-LOCATION:Europe/Paris
BEGIN:DAYLIGHT
DTSTART:20250330T030000
TZOFFSETFROM:+0100
TZOFFSETTO:+0200
TZNAME:CEST
END:DAYLIGHT
END:VTIMEZONE
END:VCALENDAR