BEGIN:VCALENDAR
VERSION:2.0
PRODID:-//wp-events-plugin.com//7.2.3.1//EN
TZID:Europe/Paris
X-WR-TIMEZONE:Europe/Paris
BEGIN:VEVENT
UID:20@acpavilly.fr
DTSTART;TZID=Europe/Paris;VALUE=DATE:20230409
DTEND;TZID=Europe/Paris;VALUE=DATE:20230410
DTSTAMP:20230311T101035Z
URL:https://www.acpavilly.fr/events/arcee-yerville-cyclo-40-60-80km/
SUMMARY:ARCEE - Yerville - Cyclo : 40 - 60 - 80km
DESCRIPTION:Rendez-vous au Centre Régional Jeunesse et Sports Rue Notre Da
 me de Pontmain\, 76760 Yerville de 07h30 à 10h00
CATEGORIES:Les cyclos du coin
END:VEVENT
BEGIN:VTIMEZONE
TZID:Europe/Paris
X-LIC-LOCATION:Europe/Paris
BEGIN:DAYLIGHT
DTSTART:20230326T030000
TZOFFSETFROM:+0100
TZOFFSETTO:+0200
TZNAME:CEST
END:DAYLIGHT
END:VTIMEZONE
END:VCALENDAR