BEGIN:VCALENDAR
VERSION:2.0
PRODID:-//wp-events-plugin.com//7.2.3.1//EN
TZID:Europe/Paris
X-WR-TIMEZONE:Europe/Paris
BEGIN:VEVENT
UID:33@acpavilly.fr
DTSTART;TZID=Europe/Paris;VALUE=DATE:20230501
DTEND;TZID=Europe/Paris;VALUE=DATE:20230502
DTSTAMP:20230410T132639Z
URL:https://www.acpavilly.fr/events/33eme-brevet-de-la-voie-romaine-c-c-n-
 normanville/
SUMMARY:33ème brevet de La voie romaine - C.C.N. - Normanville
DESCRIPTION:
CATEGORIES:Les cyclos du coin
END:VEVENT
BEGIN:VTIMEZONE
TZID:Europe/Paris
X-LIC-LOCATION:Europe/Paris
BEGIN:DAYLIGHT
DTSTART:20230326T030000
TZOFFSETFROM:+0100
TZOFFSETTO:+0200
TZNAME:CEST
END:DAYLIGHT
END:VTIMEZONE
END:VCALENDAR